BEGIN:VCALENDAR
VERSION:2.0
PRODID:-//wp-events-plugin.com//7.2.3.1//EN
TZID:Europe/Berlin
X-WR-TIMEZONE:Europe/Berlin
BEGIN:VEVENT
UID:116@evangelische-jugend.koeln
DTSTART;TZID=Europe/Berlin;VALUE=DATE:20261019
DTEND;TZID=Europe/Berlin;VALUE=DATE:20261024
DTSTAMP:20260421T133457Z
URL:https://www.evangelische-jugend.koeln/veranstaltungen/kinderferienspas
 s-2/
SUMMARY:Kinderferienspaß
DESCRIPTION:Spielprogramm mit Wanderungen\, Schatzsuche\, Klettertag\, Work
 shops\,...\n\n&nbsp\;\n\nAlter:   6 – 12 Jahre\n\nLeistungen:    Verp
 flegung\, Material\, Tagesausflüge\,\n\nKosten:             13
  €\n\n&nbsp\;\n\nAnsprechperson\n\nCarsten Päsch | carsten.paesch@ekir.
 de\n\n0157 84560088\n\nEv. Kirchengemeinde Köln-Höhenhaus
ATTACH;FMTTYPE=image/jpeg:https://www.evangelische-jugend.koeln/wp-content
 /uploads/2022/11/Kinder_13-e1668430567729.png
CATEGORIES:Ferienmaßnahme,Ferienprojekt
LOCATION:Köln\, \, 
X-APPLE-STRUCTURED-LOCATION;VALUE=URI;X-ADDRESS=\, ;X-APPLE-RADIUS=100;X-TI
 TLE=Köln:geo:0,0
END:VEVENT
BEGIN:VTIMEZONE
TZID:Europe/Berlin
X-LIC-LOCATION:Europe/Berlin
BEGIN:DAYLIGHT
DTSTART:20260329T030000
TZOFFSETFROM:+0100
TZOFFSETTO:+0200
TZNAME:CEST
END:DAYLIGHT
END:VTIMEZONE
END:VCALENDAR