BEGIN:VCALENDAR
VERSION:2.0
PRODID:-//wp-events-plugin.com//7.2.3.1//EN
TZID:Europe/Berlin
X-WR-TIMEZONE:Europe/Berlin
BEGIN:VEVENT
UID:112@evangelische-jugend.koeln
DTSTART;TZID=Europe/Berlin;VALUE=DATE:20260824
DTEND;TZID=Europe/Berlin;VALUE=DATE:20260829
DTSTAMP:20260421T130254Z
URL:https://www.evangelische-jugend.koeln/veranstaltungen/sommercamp-vor-o
 rt/
SUMMARY:Sommercamp vor Ort
DESCRIPTION:Alter:   6 – 12 Jahre\n\nLeistungen:    Freizeitprogramm\,
  Ausflüge\, Verpflegung\n\nKosten:             60 €\n\n&nbsp
 \;\n\nAnsprechperson\n\nAndré Kielbik | andre.kielbik@ekir.de\n\n0221 934
 5676 | Ev. Kirchengemeinde Köln-Bayenthal
ATTACH;FMTTYPE=image/jpeg:https://www.evangelische-jugend.koeln/wp-content
 /uploads/2026/04/33_Sommercamp-bayenthal-e1776776524617.jpeg
CATEGORIES:Ferienmaßnahme,Ferienprojekt
LOCATION:Köln\, \, 
X-APPLE-STRUCTURED-LOCATION;VALUE=URI;X-ADDRESS=\, ;X-APPLE-RADIUS=100;X-TI
 TLE=Köln:geo:0,0
END:VEVENT
BEGIN:VTIMEZONE
TZID:Europe/Berlin
X-LIC-LOCATION:Europe/Berlin
BEGIN:DAYLIGHT
DTSTART:20260329T030000
TZOFFSETFROM:+0100
TZOFFSETTO:+0200
TZNAME:CEST
END:DAYLIGHT
END:VTIMEZONE
END:VCALENDAR