BEGIN:VCALENDAR
VERSION:2.0
PRODID:-//wp-events-plugin.com//7.2.3.1//EN
TZID:Europe/Berlin
X-WR-TIMEZONE:Europe/Berlin
BEGIN:VEVENT
UID:115@evangelische-jugend.koeln
DTSTART;TZID=Europe/Berlin;VALUE=DATE:20261018
DTEND;TZID=Europe/Berlin;VALUE=DATE:20261024
DTSTAMP:20260421T132841Z
URL:https://www.evangelische-jugend.koeln/veranstaltungen/windwaerts-gemei
 nsam-fuer-eine-nachhaltige-welt/
SUMMARY:Windwärts – Gemeinsam für eine nachhaltige Welt
DESCRIPTION:Segeltörn zur Sensibilisierung für Nachhaltigkeit.\n\n&nbsp\;
 \n\nAnsprechperson\n\nPetra Kempe | petra.kempe@ekir.de\n\n0176 10405753\n
 \nEv. Kirchengemeinde Vingst-Neubrück-Höhenberg
ATTACH;FMTTYPE=image/jpeg:https://www.evangelische-jugend.koeln/wp-content
 /uploads/2024/07/segeln_-e1776778097637.png
CATEGORIES:Ferienmaßnahme,Ferienprojekt,Freizeit
LOCATION:Ijsselmeer\, \, 
X-APPLE-STRUCTURED-LOCATION;VALUE=URI;X-ADDRESS=\, ;X-APPLE-RADIUS=100;X-TI
 TLE=Ijsselmeer:geo:0,0
END:VEVENT
BEGIN:VTIMEZONE
TZID:Europe/Berlin
X-LIC-LOCATION:Europe/Berlin
BEGIN:DAYLIGHT
DTSTART:20260329T030000
TZOFFSETFROM:+0100
TZOFFSETTO:+0200
TZNAME:CEST
END:DAYLIGHT
END:VTIMEZONE
END:VCALENDAR